BEGIN:VCALENDAR
VERSION:2.0
PRODID:-//Sabre//Sabre VObject 3.5.3//EN
CALSCALE:GREGORIAN
BEGIN:VTIMEZONE
TZID:Europe/London
BEGIN:STANDARD
TZNAME:GMT
DTSTART:19701025T020000
RRULE:FREQ=YEARLY;BYMONTH=10;BYDAY=-1SU
TZOFFSETFROM:+0100
TZOFFSETTO:+0000
END:STANDARD
BEGIN:DAYLIGHT
TZNAME:BST
DTSTART:19700329T010000
RRULE:FREQ=YEARLY;BYMONTH=3;BYDAY=-1SU
TZOFFSETFROM:+0000
TZOFFSETTO:+0100
END:DAYLIGHT
END:VTIMEZONE
BEGIN:VEVENT
UID:event_177414@harrowharmony.org.uk
DTSTART;TZID=Europe/London:20240406T193000
DTEND;TZID=Europe/London:20240406T213000
SUMMARY:Spring Concert 2024
DESCRIPTION:Join us for our Spring Concert 2024 where we will be Sing\, Sin
 g\, Sing...ing a variety of pieces from Vivaldi&#39\;s Gloria\, Handel&#39
 \;s Lascia Ch&rsquo\;io Pianga\, Sway...ing Somewhere&nbsp\;up to Earth\, 
 Wind &amp\; Fire.&nbsp\; What a Fantasy&nbsp\;of a Journey\, but please Do
 n&#39\;t Stop Believin&#39\;!\n\nOur guest soloist will be Gregory Mitchel
 l.\n\nFor full event details\, visit: https://www.harrowharmony.org.uk/dbp
 age.php?pg=view&dbase=events&id=177414
LOCATION:Saint Cuthbert's Church\, Carlton Avenue West\, North Wembley\, HA
 0 3QY
URL:https://www.harrowharmony.org.uk/dbpage.php?pg=view&dbase=events&id=177
 414
END:VEVENT
END:VCALENDAR
