BEGIN:VCALENDAR
VERSION:2.0
PRODID:-//Sabre//Sabre VObject 3.5.3//EN
CALSCALE:GREGORIAN
BEGIN:VTIMEZONE
TZID:Europe/London
BEGIN:STANDARD
TZNAME:GMT
DTSTART:19701025T020000
RRULE:FREQ=YEARLY;BYMONTH=10;BYDAY=-1SU
TZOFFSETFROM:+0100
TZOFFSETTO:+0000
END:STANDARD
BEGIN:DAYLIGHT
TZNAME:BST
DTSTART:19700329T010000
RRULE:FREQ=YEARLY;BYMONTH=3;BYDAY=-1SU
TZOFFSETFROM:+0000
TZOFFSETTO:+0100
END:DAYLIGHT
END:VTIMEZONE
BEGIN:VEVENT
UID:event_314082@harrowharmony.org.uk
DTSTART;TZID=Europe/London:20260619T190000
DTEND;TZID=Europe/London:20260619T220000
SUMMARY:Rehearsal
DESCRIPTION:For full event details\, visit: https://www.harrowharmony.org.u
 k/dbpage.php?pg=view&dbase=events&id=314082
LOCATION:South Harrow Methodist Church\, Walton Avenue\, \, Harrow. \, HA2 
 9 8QU
URL:https://www.harrowharmony.org.uk/dbpage.php?pg=view&dbase=events&id=314
 082
END:VEVENT
END:VCALENDAR
